BEGIN:VCALENDAR
VERSION:2.0
PRODID:-//Les Hommes-Grenouilles de Conflans - ECPv6.15.20//NONSGML v1.0//EN
CALSCALE:GREGORIAN
METHOD:PUBLISH
X-ORIGINAL-URL:https://hgcconflans.com
X-WR-CALDESC:Évènements pour Les Hommes-Grenouilles de Conflans
REFRESH-INTERVAL;VALUE=DURATION:PT1H
X-Robots-Tag:noindex
X-PUBLISHED-TTL:PT1H
BEGIN:VTIMEZONE
TZID:Europe/Paris
BEGIN:DAYLIGHT
TZOFFSETFROM:+0100
TZOFFSETTO:+0200
TZNAME:CEST
DTSTART:20240331T010000
END:DAYLIGHT
BEGIN:STANDARD
TZOFFSETFROM:+0200
TZOFFSETTO:+0100
TZNAME:CET
DTSTART:20241027T010000
END:STANDARD
BEGIN:DAYLIGHT
TZOFFSETFROM:+0100
TZOFFSETTO:+0200
TZNAME:CEST
DTSTART:20250330T010000
END:DAYLIGHT
BEGIN:STANDARD
TZOFFSETFROM:+0200
TZOFFSETTO:+0100
TZNAME:CET
DTSTART:20251026T010000
END:STANDARD
BEGIN:DAYLIGHT
TZOFFSETFROM:+0100
TZOFFSETTO:+0200
TZNAME:CEST
DTSTART:20260329T010000
END:DAYLIGHT
BEGIN:STANDARD
TZOFFSETFROM:+0200
TZOFFSETTO:+0100
TZNAME:CET
DTSTART:20261025T010000
END:STANDARD
END:VTIMEZONE
BEGIN:VEVENT
DTSTART;VALUE=DATE:20250109
DTEND;VALUE=DATE:20250113
DTSTAMP:20260424T051417
CREATED:20240625T075135Z
LAST-MODIFIED:20240625T075135Z
UID:8009-1736380800-1736726399@hgcconflans.com
SUMMARY:Salon de la Plongée
DESCRIPTION:
URL:https://hgcconflans.com/event/salon-de-la-plongee-6/
LOCATION:Parc des expositions – Pavillon 4\, 1 place de la Porte de Versailles\, PARIS\, 75015\, France
END:VEVENT
END:VCALENDAR